BEGIN:VCALENDAR
PRODID:-//Pixl8//Eventfolio//EN
VERSION:2.0
X-WR-TIMEZONE:America/New_York
CALSCALE:GREGORIAN
METHOD:PUBLISH
CLASS:PUBLIC
BEGIN:VTIMEZONE
TZID:America/New_York
LAST-MODIFIED:20260306T231828Z
TZURL:https://www.tzurl.org/zoneinfo-outlook/America/New_York
X-LIC-LOCATION:America/New_York
BEGIN:DAYLIGHT
TZNAME:EDT
TZOFFSETFROM:-0500
TZOFFSETTO:-0400
DTSTART:19700308T020000
RRULE:FREQ=YEARLY;BYMONTH=3;BYDAY=2SU
END:DAYLIGHT
BEGIN:STANDARD
TZNAME:EST
TZOFFSETFROM:-0400
TZOFFSETTO:-0500
DTSTART:19701101T020000
RRULE:FREQ=YEARLY;BYMONTH=11;BYDAY=1SU
END:STANDARD
END:VTIMEZONE
BEGIN:VEVENT
DTSTART;TZID=America/New_York:20230927T120000
DTEND;TZID=America/New_York:20230927T130000
DTSTAMP:20260422T224758Z
UID:{0B7A4951-9AC5-4E02-B43B92B6640C77AF}
LOCATION:Zoom
SUMMARY:Recruitment and Retention for Programming Boards
DESCRIPTION:Undergraduate students are invited to a discussion around keeping and recruiting students on your roster.\n
 \n
 Event details: https://www.naca.org/events/event-calendar/recruitment-and-retention-for-programming-boards-09-27-2023.html
PRIORITY:1
END:VEVENT
END:VCALENDAR