BEGIN:VCALENDAR
PRODID:-//Pixl8//Eventfolio//EN
VERSION:2.0
X-WR-TIMEZONE:America/New_York
CALSCALE:GREGORIAN
METHOD:PUBLISH
CLASS:PUBLIC
BEGIN:VTIMEZONE
TZID:America/New_York
LAST-MODIFIED:20260306T231828Z
TZURL:https://www.tzurl.org/zoneinfo-outlook/America/New_York
X-LIC-LOCATION:America/New_York
BEGIN:DAYLIGHT
TZNAME:EDT
TZOFFSETFROM:-0500
TZOFFSETTO:-0400
DTSTART:19700308T020000
RRULE:FREQ=YEARLY;BYMONTH=3;BYDAY=2SU
END:DAYLIGHT
BEGIN:STANDARD
TZNAME:EST
TZOFFSETFROM:-0400
TZOFFSETTO:-0500
DTSTART:19701101T020000
RRULE:FREQ=YEARLY;BYMONTH=11;BYDAY=1SU
END:STANDARD
END:VTIMEZONE
BEGIN:VEVENT
DTSTART;TZID=America/New_York:20250602T130000
DTEND;TZID=America/New_York:20250602T140000
DTSTAMP:20260422T191152Z
UID:{E927CA39-717E-4C3E-A3E97F13852EC2E0}
LOCATION:
SUMMARY:Programming Board Cohort June Meetup
DESCRIPTION:Join your Programming Board colleagues in this monthly cohort meetup on the first Monday of the month at 1pm ET.\n
 \n
 Event details: https://www.naca.org/events/event-calendar/programming-board-cohort-june-meetup-6-2-2025.html
PRIORITY:1
END:VEVENT
END:VCALENDAR