BEGIN:VCALENDAR
PRODID:-//Pixl8//Eventfolio//EN
VERSION:2.0
X-WR-TIMEZONE:America/Chicago
CALSCALE:GREGORIAN
METHOD:PUBLISH
CLASS:PUBLIC
BEGIN:VTIMEZONE
TZID:America/Chicago
LAST-MODIFIED:20260306T231828Z
TZURL:https://www.tzurl.org/zoneinfo-outlook/America/Chicago
X-LIC-LOCATION:America/Chicago
BEGIN:DAYLIGHT
TZNAME:CDT
TZOFFSETFROM:-0600
TZOFFSETTO:-0500
DTSTART:19700308T020000
RRULE:FREQ=YEARLY;BYMONTH=3;BYDAY=2SU
END:DAYLIGHT
BEGIN:STANDARD
TZNAME:CST
TZOFFSETFROM:-0500
TZOFFSETTO:-0600
DTSTART:19701101T020000
RRULE:FREQ=YEARLY;BYMONTH=11;BYDAY=1SU
END:STANDARD
END:VTIMEZONE
BEGIN:VEVENT
DTSTART;TZID=America/Chicago:20241113T130000
DTEND;TZID=America/Chicago:20241113T140000
DTSTAMP:20260425T213419Z
UID:{2DD8407A-2F08-48BB-80EFC2B33CE19F8A}
LOCATION:
SUMMARY:Lead the Way: Effective Meetings Made Easy
DESCRIPTION:Discover how to lead meetings that are productive, fun, and keep everyone on track—it's time to level up your leadership skills!\n
 \n
 Event details: https://www.naca.org/events/event-calendar/lead-the-way-effective-meetings-made-easy-11-13-2024.html
PRIORITY:1
END:VEVENT
END:VCALENDAR