BEGIN:VCALENDAR
PRODID:-//Pixl8//Eventfolio//EN
VERSION:2.0
X-WR-TIMEZONE:America/New_York
CALSCALE:GREGORIAN
METHOD:PUBLISH
CLASS:PUBLIC
BEGIN:VTIMEZONE
TZID:America/New_York
LAST-MODIFIED:20260306T231828Z
TZURL:https://www.tzurl.org/zoneinfo-outlook/America/New_York
X-LIC-LOCATION:America/New_York
BEGIN:DAYLIGHT
TZNAME:EDT
TZOFFSETFROM:-0500
TZOFFSETTO:-0400
DTSTART:19700308T020000
RRULE:FREQ=YEARLY;BYMONTH=3;BYDAY=2SU
END:DAYLIGHT
BEGIN:STANDARD
TZNAME:EST
TZOFFSETFROM:-0400
TZOFFSETTO:-0500
DTSTART:19701101T020000
RRULE:FREQ=YEARLY;BYMONTH=11;BYDAY=1SU
END:STANDARD
END:VTIMEZONE
BEGIN:VEVENT
DTSTART;TZID=America/New_York:20231012T160000
DTEND;TZID=America/New_York:20231012T170000
DTSTAMP:20260423T071707Z
UID:{23187E42-88EA-4D78-940A6CEF4B86849D}
LOCATION:
SUMMARY:DiversiTEA: Barbie Talkback on Patriarchy, Feminism, and Masculinity
DESCRIPTION:You are invited to share your takeaways from the movie and its commentary on patriarchy and feminism.\n
 \n
 Event details: https://www.naca.org/events/event-calendar/diversitea-barbie-talkback-on-patriarchy-feminism-and-masculinity.html
PRIORITY:1
END:VEVENT
END:VCALENDAR