BEGIN:VCALENDAR
PRODID:-//Pixl8//Eventfolio//EN
VERSION:2.0
X-WR-TIMEZONE:America/New_York
CALSCALE:GREGORIAN
METHOD:PUBLISH
CLASS:PUBLIC
BEGIN:VTIMEZONE
TZID:America/New_York
LAST-MODIFIED:20260306T231828Z
TZURL:https://www.tzurl.org/zoneinfo-outlook/America/New_York
X-LIC-LOCATION:America/New_York
BEGIN:DAYLIGHT
TZNAME:EDT
TZOFFSETFROM:-0500
TZOFFSETTO:-0400
DTSTART:19700308T020000
RRULE:FREQ=YEARLY;BYMONTH=3;BYDAY=2SU
END:DAYLIGHT
BEGIN:STANDARD
TZNAME:EST
TZOFFSETFROM:-0400
TZOFFSETTO:-0500
DTSTART:19701101T020000
RRULE:FREQ=YEARLY;BYMONTH=11;BYDAY=1SU
END:STANDARD
END:VTIMEZONE
BEGIN:VEVENT
DTSTART;TZID=America/New_York:20240117T140000
DTEND;TZID=America/New_York:20240117T150000
DTSTAMP:20260423T055413Z
UID:{F8BB0C87-4B23-4E87-9116D8701B053169}
LOCATION:Zoom
SUMMARY:Associate Chat: NACA Live Orientation 1/17/2024
DESCRIPTION:Calling all NACA Live exhibitors! Join NACA associate members for an overview and orientation of NACA Live.\n
 \n
 Event details: https://www.naca.org/events/event-calendar/associate-chat-naca-live-orientation-1-17-2024.html
PRIORITY:1
END:VEVENT
END:VCALENDAR