BEGIN:VCALENDAR
PRODID:-//Pixl8//Eventfolio//EN
VERSION:2.0
X-WR-TIMEZONE:America/New_York
CALSCALE:GREGORIAN
METHOD:PUBLISH
CLASS:PUBLIC
BEGIN:VTIMEZONE
TZID:America/New_York
LAST-MODIFIED:20260306T231828Z
TZURL:https://www.tzurl.org/zoneinfo-outlook/America/New_York
X-LIC-LOCATION:America/New_York
BEGIN:DAYLIGHT
TZNAME:EDT
TZOFFSETFROM:-0500
TZOFFSETTO:-0400
DTSTART:19700308T020000
RRULE:FREQ=YEARLY;BYMONTH=3;BYDAY=2SU
END:DAYLIGHT
BEGIN:STANDARD
TZNAME:EST
TZOFFSETFROM:-0400
TZOFFSETTO:-0500
DTSTART:19701101T020000
RRULE:FREQ=YEARLY;BYMONTH=11;BYDAY=1SU
END:STANDARD
END:VTIMEZONE
BEGIN:VEVENT
DTSTART;TZID=America/New_York:20230920T140000
DTEND;TZID=America/New_York:20230920T150000
DTSTAMP:20260425T174000Z
UID:{EDCC4449-2FC0-4E8D-B5EF1625BB694806}
LOCATION:Zoom
SUMMARY:Associate Chat: NACA Conference Orientation 9/20/2023 
DESCRIPTION:Calling all NACA Conference exhibitors! Join us for an orientation and overview of NACA Conferences.\n
 \n
 Event details: https://www.naca.org/events/event-calendar/associate-chat-naca-conference-orientation-9-20-2023.html
PRIORITY:1
END:VEVENT
END:VCALENDAR