BEGIN:VCALENDAR
PRODID:-//Pixl8//Eventfolio//EN
VERSION:2.0
X-WR-TIMEZONE:America/New_York
CALSCALE:GREGORIAN
METHOD:PUBLISH
CLASS:PUBLIC
BEGIN:VTIMEZONE
TZID:America/New_York
LAST-MODIFIED:20260306T231828Z
TZURL:https://www.tzurl.org/zoneinfo-outlook/America/New_York
X-LIC-LOCATION:America/New_York
BEGIN:DAYLIGHT
TZNAME:EDT
TZOFFSETFROM:-0500
TZOFFSETTO:-0400
DTSTART:19700308T020000
RRULE:FREQ=YEARLY;BYMONTH=3;BYDAY=2SU
END:DAYLIGHT
BEGIN:STANDARD
TZNAME:EST
TZOFFSETFROM:-0400
TZOFFSETTO:-0500
DTSTART:19701101T020000
RRULE:FREQ=YEARLY;BYMONTH=11;BYDAY=1SU
END:STANDARD
END:VTIMEZONE
BEGIN:VEVENT
DTSTART;TZID=America/New_York:20250402T140000
DTEND;TZID=America/New_York:20250402T150000
DTSTAMP:20260424T055938Z
UID:{8A6B8666-AE3F-49FD-91748F63936597B4}
LOCATION:
SUMMARY:Associate Chat: NACA 24/7 Refresher
DESCRIPTION:Join NACA's Associate Advisory Group (AAG) and your associate member peers on Wednesday, April 2, 2pm - 3pm ET to hear tips and tricks on using NACA 24/7.\n
 \n
 Event details: https://www.naca.org/events/event-calendar/associate-chat-naca-24-7-refresher-04-02-2025.html
PRIORITY:1
END:VEVENT
END:VCALENDAR