BEGIN:VCALENDAR
PRODID:-//Pixl8//Eventfolio//EN
VERSION:2.0
X-WR-TIMEZONE:America/New_York
CALSCALE:GREGORIAN
METHOD:PUBLISH
CLASS:PUBLIC
BEGIN:VTIMEZONE
TZID:America/New_York
LAST-MODIFIED:20260306T231828Z
TZURL:https://www.tzurl.org/zoneinfo-outlook/America/New_York
X-LIC-LOCATION:America/New_York
BEGIN:DAYLIGHT
TZNAME:EDT
TZOFFSETFROM:-0500
TZOFFSETTO:-0400
DTSTART:19700308T020000
RRULE:FREQ=YEARLY;BYMONTH=3;BYDAY=2SU
END:DAYLIGHT
BEGIN:STANDARD
TZNAME:EST
TZOFFSETFROM:-0400
TZOFFSETTO:-0500
DTSTART:19701101T020000
RRULE:FREQ=YEARLY;BYMONTH=11;BYDAY=1SU
END:STANDARD
END:VTIMEZONE
BEGIN:VEVENT
DTSTART;TZID=America/New_York;VALUE=DATE:20260113
DTEND;TZID=America/New_York;VALUE=DATE:20260206
DTSTAMP:20260423T111128Z
UID:{029ED132-C935-42FE-8DA4D7B32A7CB724}
LOCATION:
SUMMARY:2026 Mid-Level Professionals Course
DESCRIPTION:The NACA Mid-Level Professional Course (MLP) is designed for higher education professionals who are preparing for their next steps in their careers.\n
 \n
 Event details: https://www.naca.org/events/event-calendar/2026-mid-level-professionals-course.html
PRIORITY:1
END:VEVENT
END:VCALENDAR